BEGIN:VCALENDAR
VERSION:2.0
PRODID:-//Cudowny Portal - ECPv6.15.20//NONSGML v1.0//EN
CALSCALE:GREGORIAN
METHOD:PUBLISH
X-WR-CALNAME:Cudowny Portal
X-ORIGINAL-URL:http://cudownyportal.pl
X-WR-CALDESC:Wydarzenia dla Cudowny Portal
REFRESH-INTERVAL;VALUE=DURATION:PT1H
X-Robots-Tag:noindex
X-PUBLISHED-TTL:PT1H
BEGIN:VTIMEZONE
TZID:UTC
BEGIN:STANDARD
TZOFFSETFROM:+0000
TZOFFSETTO:+0000
TZNAME:UTC
DTSTART:20160101T000000
END:STANDARD
END:VTIMEZONE
BEGIN:VEVENT
DTSTART;TZID=UTC:20220227T173000
DTEND;TZID=UTC:20220305T120000
DTSTAMP:20260423T224038
CREATED:20211113T202137Z
LAST-MODIFIED:20211212T153104Z
UID:7700-1645983000-1646481600@cudownyportal.pl
SUMMARY:Zimowe Wczasy z Samorozwojem i Rozwojem Duchowym 27.02 - 05.03.2022 Gąski
DESCRIPTION:27.02 – 05.03.2022 \nZimowe Wczasy z Samorozwojem i Rozwojem Duchowym \nKreowanie udanego związku partnerskiego. Magia w rodzinie \nprow. Dariusz Loga \n  \nFormularz zgłoszeniowy. Zapisz się!\n 
URL:http://cudownyportal.pl/event/zimowe-wczasy-z-rozwojem-duchowym-27-02-05-03-2022-gaski/
ATTACH;FMTTYPE=image/jpeg:http://cudownyportal.pl/wp-content/uploads/2007/05/Fotolia_52349928_XS.jpg
END:VEVENT
BEGIN:VEVENT
DTSTART;TZID=UTC:20210703T170000
DTEND;TZID=UTC:20210711T170000
DTSTAMP:20260423T224038
CREATED:20210418T154738Z
LAST-MODIFIED:20210418T161913Z
UID:7555-1625331600-1626022800@cudownyportal.pl
SUMMARY:Letnie Wczasy z Regresingiem  Białka Tatrzańska  03 - 11.07.2021
DESCRIPTION:03 – 11 lipca  2021 Białka Tatrzańska \nLetnie Wczasy z Regresingiem \n\nSztuka stawiania granic\nprow. Dariusz Loga\nFormularz zgłoszeniowy – Zapisz się1
URL:http://cudownyportal.pl/event/letnie-wczasy-z-regresingiem-bialka-tatrzanska-03-11-07-2021/
LOCATION:Białka Tatrzańska\, Grapa 2A\, Białka Tatrzańska\, Małopolskie\, 34-405\, Polska
ATTACH;FMTTYPE=image/jpeg:http://cudownyportal.pl/wp-content/uploads/2015/05/Fotolia_3638945_M.jpg
END:VEVENT
BEGIN:VEVENT
DTSTART;TZID=UTC:20210418T173000
DTEND;TZID=UTC:20210424T173000
DTSTAMP:20260423T224038
CREATED:20201003T213307Z
LAST-MODIFIED:20210123T192513Z
UID:7398-1618767000-1619285400@cudownyportal.pl
SUMMARY:Wiosenne Wczasy z Regresingiem\, Gąski 18 - 24.04.2021
DESCRIPTION:18 – 24 kwietnia  2021 Gąski k Mielna \nWiosenne Wczasy z Regresingiem \n\nSztuka stawiania granic\nprow. Dariusz Loga\n\n  \n Szczegółowy opis. Czytaj dalej!\n  \nFormularz zgłoszeniowy. Zapisz się !
URL:http://cudownyportal.pl/event/zimowe-wczasy-z-regresingiem-gaski-07-13-02-2021/
LOCATION:Gąski\, Piaskowa 5\, Polska
ATTACH;FMTTYPE=image/jpeg:http://cudownyportal.pl/wp-content/uploads/2013/06/zachód-chorw.jpg
END:VEVENT
BEGIN:VEVENT
DTSTART;TZID=UTC:20200823T170000
DTEND;TZID=UTC:20200830T120000
DTSTAMP:20260423T224038
CREATED:20200717T185824Z
LAST-MODIFIED:20200717T185824Z
UID:7373-1598202000-1598788800@cudownyportal.pl
SUMMARY:Letnie Wczasy z Regresingiem Białka Tatrzańska 23 - 30.08.2020
DESCRIPTION:23 – 3014 sierpnia 2020 Białka Tatrzańska \nLetnie Wczasy z Regresingiem \n\nWdzięczność i zadowolenie z \nsiebie drogą do sukcesów i spełnienia\n\nprow. Dariusz Loga\n  \n  \nSzczegółowy opis. Czytaj więcej !\nFormularz zgłoszeniowy. Zapisz się !\n  \n 
URL:http://cudownyportal.pl/event/letnie-wczasy-z-regresingiem-bialka-tatrzanska-23-30-08-2020/
LOCATION:Białka Tatrzańska\, Grapa 2A\, Białka Tatrzańska\, Małopolskie\, 34-405\, Polska
ATTACH;FMTTYPE=image/jpeg:http://cudownyportal.pl/wp-content/uploads/2015/05/W-drodze-na-szczyt-Fotolia_68847546_M.jpg
END:VEVENT
BEGIN:VEVENT
DTSTART;TZID=UTC:20190706T170000
DTEND;TZID=UTC:20190714T130000
DTSTAMP:20260423T224038
CREATED:20190217T154746Z
LAST-MODIFIED:20190217T155657Z
UID:6832-1562432400-1563109200@cudownyportal.pl
SUMMARY:Letnie Wczasy z Regresingiem. Białka Tatrzańska 06 - 16.07.2019
DESCRIPTION:6 – 14 lipca 2019 Białka Tatrzańska \nLetnie Wczasy z Regresingiem \nManipulacje. \nJak je rozpoznawać i nie być ich ofiarą. \nJak z nich zrezygnować i uczciwie osiągać swoje cele\nprow. Dariusz Loga\n  \n Szczegółowy opis. Czytaj więcej !  \n  \n Formularz zgłoszeniowy. Zapisz się !\n 
URL:http://cudownyportal.pl/event/letnie-wczasy-z-regresingiem-bialka-tatrzanska-06-16-07-2019/
LOCATION:Białka Tatrzańska\, Grapa 2A\, Białka Tatrzańska\, Małopolskie\, 34-405\, Polska
ATTACH;FMTTYPE=image/jpeg:http://cudownyportal.pl/wp-content/uploads/2015/05/Fotolia_3638945_M.jpg
END:VEVENT
BEGIN:VEVENT
DTSTART;TZID=UTC:20180707T170000
DTEND;TZID=UTC:20180715T130000
DTSTAMP:20260423T224038
CREATED:20180225T183952Z
LAST-MODIFIED:20180225T184705Z
UID:6404-1530982800-1531659600@cudownyportal.pl
SUMMARY:Letnie Wczasy z Regresingiem\, Białka Tatrzańska 7 - 15.07.2018
DESCRIPTION:7 – 15 lipca 2018 \nBiałka Tatrzańska \nLetnie Wczasy z Regresingiem \nJak przy wsparciu intuicji poznać swoje zdolności\ni predyspozycje zawodowe oraz otworzyć się na bogactwo materialne?\nprow. Dariusz Loga \n  \nSzczegóły wydarzenia\n  \nFormularz zgłoszeniowy. Zapisz się!\n  \n  \n 
URL:http://cudownyportal.pl/event/letnie-wczasy-z-regresingiem-bialka-tatrzanska-7-15-07-2018/
LOCATION:Skorusa\, Grapa 2 A\, Białka Tatrzańska\, Małopolskie\, Polska
ATTACH;FMTTYPE=image/jpeg:http://cudownyportal.pl/wp-content/uploads/2015/05/Fotolia_3638945_M.jpg
END:VEVENT
BEGIN:VEVENT
DTSTART;TZID=UTC:20180310T100000
DTEND;TZID=UTC:20180310T183000
DTSTAMP:20260423T224038
CREATED:20180219T135656Z
LAST-MODIFIED:20180219T140738Z
UID:6373-1520676000-1520706600@cudownyportal.pl
SUMMARY:Warsztat Ustawień Rodzinnych wg. B. Hellingera Poznań 10.03.2018
DESCRIPTION:Poznań \n10 marca 2018 \nZapraszamy na Warsztat Ustawień Rodzin wg. B. Hellingera \n„Czas się spotkać: kobiety\, mężczyźni\, związki” \nprow. psycholog Elżbieta Sanigórska \n  \nCzytaj więcej\n  \nFormularz zgłoszeniowy. Zapisz się!
URL:http://cudownyportal.pl/event/warsztat-ustawien-rodzinnych-wg-b-hellingera-poznan-10-03-2018/
ATTACH;FMTTYPE=image/jpeg:http://cudownyportal.pl/wp-content/uploads/2018/02/tara-bazille-3465601-hellinger-03.2018-nowe-zdjecie-ok-now.jpg
END:VEVENT
BEGIN:VEVENT
DTSTART;TZID=UTC:20180210T093000
DTEND;TZID=UTC:20180210T190000
DTSTAMP:20260423T224038
CREATED:20180116T112446Z
LAST-MODIFIED:20180116T114101Z
UID:6344-1518255000-1518289200@cudownyportal.pl
SUMMARY:Warsztat Ustawień Rodzin wg. B. Hellingera  10.02.2018\, prow. E. Sanigórska
DESCRIPTION:Warszawa \n10 lutego 2018 \nZapraszamy na Warsztat Ustawień Rodzin wg. B. Hellingera \n” Z Waszą miłością mogę wszystko” \nprow. psycholog Elżbieta Sanigórska \n  \nCzytaj więcej !\n  \nFormularz zgłoszeniowy. Zapisz się !
URL:http://cudownyportal.pl/event/warsztat-ustawien-rodzin-wg-b-hellingera-10-02-2018-prow-e-sanigorska/
LOCATION:Poradnia TOP\, Raszyńska 8/10\, Warszawa\, Mazowieckie\, Polska
ATTACH;FMTTYPE=image/jpeg:http://cudownyportal.pl/wp-content/uploads/2015/05/Fotolia_73483300_M-hellinger.jpg
END:VEVENT
BEGIN:VEVENT
DTSTART;TZID=UTC:20171209T110000
DTEND;TZID=UTC:20171209T190000
DTSTAMP:20260423T224038
CREATED:20170429T204155Z
LAST-MODIFIED:20171120T204950Z
UID:5681-1512817200-1512846000@cudownyportal.pl
SUMMARY:Warsztat Ustawień Rodzinnych wg. B. Hellingera\, Poznań 09.12.2017
DESCRIPTION:09 grudnia 2017 \nzapraszamy do Poznania na \nWarsztat Ustawień Rodzinnych wg. B. Hellingera \n” Z Waszą miłością mogę wszystko” \nprow: psycholog Elżbieta Sanigórska \nZobacz szczegóły\n  \nFormularz zgłoszeniowy. Zapisz się!\n  \n 
URL:http://cudownyportal.pl/event/wa/
LOCATION:Studio Jogi YAM\, J. Kochanowskiego 4/10\, Poznań\, wielkopolskie\, Polska
ATTACH;FMTTYPE=image/jpeg:http://cudownyportal.pl/wp-content/uploads/2015/05/hellinger.jpg
END:VEVENT
BEGIN:VEVENT
DTSTART;TZID=UTC:20171125T093000
DTEND;TZID=UTC:20171125T190000
DTSTAMP:20260423T224038
CREATED:20171011T195047Z
LAST-MODIFIED:20171011T200411Z
UID:6274-1511602200-1511636400@cudownyportal.pl
SUMMARY:Warsztat Ustawień Rodzinnych wg. B. Hellingera\, Warszawa 25.11.2017
DESCRIPTION:25 listopada 2017 \nzapraszamy do Warszawy na \nWarsztat Ustawień Rodzinnych wg. B. Hellingera \n” Z Waszą miłością mogę wszystko” \nprow: psycholog Elżbieta Sanigórska \n  \nCzytaj więcej !\n  \nFormularz zgłoszeniowy. Zapisz się !
URL:http://cudownyportal.pl/event/warsztat-ustawien-rodzinnych-wg-b-hellingera-warszawa-25-11-2017/
LOCATION:Poradnia TOP\, Raszyńska 8/10\, Warszawa\, Mazowieckie\, Polska
ATTACH;FMTTYPE=image/jpeg:http://cudownyportal.pl/wp-content/uploads/2015/08/Fotolia_73483300_M.jpg
END:VEVENT
BEGIN:VEVENT
DTSTART;TZID=UTC:20170930T093000
DTEND;TZID=UTC:20170930T190000
DTSTAMP:20260423T224038
CREATED:20161112T173139Z
LAST-MODIFIED:20170830T184035Z
UID:4812-1506763800-1506798000@cudownyportal.pl
SUMMARY:Warsztat Ustawień Rodzinnych wg. B. Hellingera Warszawa 30.09.2017 prow. E. Sanigórska
DESCRIPTION:Warszawa \n30 września 2017 \nzapraszamy na \nWarsztat Ustawień Rodzinnych wg. B. Hellingera \n” Z Waszą miłością mogę wszystko” \nprow: psycholog Elżbieta Sanigórska \nczytaj więcej ! \n\nFormularz zgłoszeniowy!
URL:http://cudownyportal.pl/event/warsztat-ustawien-rodzinnych-wg-b-hellingera-warszawa-21-01-2017/
LOCATION:Poradnia TOP\, Raszyńska 8/10\, Warszawa\, Mazowieckie\, Polska
ATTACH;FMTTYPE=image/jpeg:http://cudownyportal.pl/wp-content/uploads/2015/05/hellinger.jpg
END:VEVENT
BEGIN:VEVENT
DTSTART;TZID=UTC:20170923T100000
DTEND;TZID=UTC:20170924T180000
DTSTAMP:20260423T224038
CREATED:20170823T095102Z
LAST-MODIFIED:20170823T115752Z
UID:6160-1506160800-1506276000@cudownyportal.pl
SUMMARY:Warsztaty z Regresingiem Łódź 23 - 24.09.2017 prow. D. Loga
DESCRIPTION:23 – 24 września 2017 zapraszamy do Łodzi na \nWarsztaty z Regresingiem \nIntuicja i nadświadomość – niech prowadzą mnie w moim życiu\nzajęcia prowadzi Dariusz Loga \n 
URL:http://cudownyportal.pl/event/warsztaty-z-regresingiem-lodz-23-24-09-2017/
LOCATION:Fundacja Ferso\, Piotrkowska 85/83\, Łódź\, Polska
ATTACH;FMTTYPE=image/jpeg:http://cudownyportal.pl/wp-content/uploads/2013/06/czysty-umysl.jpg
ORGANIZER;CN="Dariusz Loga":MAILTO:ezotericuss@post.pl
END:VEVENT
BEGIN:VEVENT
DTSTART;TZID=UTC:20170909T100000
DTEND;TZID=UTC:20170910T180000
DTSTAMP:20260423T224038
CREATED:20170809T193146Z
LAST-MODIFIED:20170809T194542Z
UID:6095-1504951200-1505066400@cudownyportal.pl
SUMMARY:Warsztaty z Regresingiem.  Poznań 09 - 10.09.2017 prow D. Loga
DESCRIPTION:09 – 10 września 2017 zapraszamy do Poznania na \nWarsztaty z Regresingiem \nCele\, które deklarujemy\, a cele\, które realizujemy – jak osiągać swoje cele we współczesnym świecie\nzajęcia prowadzi Dariusz Loga
URL:http://cudownyportal.pl/event/warsztaty-z-regresingiem-poznan-09-10-09-2017/
LOCATION:Nekla\, Dworcowa 2/2\, Dworcowa 2/2\, Nekla\, Wielkoposkie\, 62-330\, Polska
ATTACH;FMTTYPE=image/jpeg:http://cudownyportal.pl/wp-content/uploads/2013/06/co-tam-siedzi-w-tej-glowie.jpg
END:VEVENT
BEGIN:VEVENT
DTSTART;TZID=UTC:20170902T100000
DTEND;TZID=UTC:20170903T180000
DTSTAMP:20260423T224038
CREATED:20170823T092024Z
LAST-MODIFIED:20170823T095130Z
UID:6145-1504346400-1504461600@cudownyportal.pl
SUMMARY:Warsztaty z Regresingiem Bielsko Biała 02 - 03.09.2017\, prow. D. Loga
DESCRIPTION:02 – 03 września 2017 zapraszamy do Bielsko – Biała na \nWarsztaty z Regresingiem \nJak wykreować udany związek partnerski\, w którym będziemy się czuli szczęśliwi\, kochani i spełnieni pod każdym względem\nzajęcia prowadzi Dariusz Loga \n 
URL:http://cudownyportal.pl/event/warsztaty-z-regresingiem-bielsko-biala-02-03-09-2017-prow-dariusz-loga/
LOCATION:Studio Helios\, Widok 1B\, Bielsko-Biała\, Polska
ATTACH;FMTTYPE=image/jpeg:http://cudownyportal.pl/wp-content/uploads/2007/05/Fotolia_52349928_XS.jpg
END:VEVENT
BEGIN:VEVENT
DTSTART;TZID=UTC:20170819T110000
DTEND;TZID=UTC:20170820T140000
DTSTAMP:20260423T224038
CREATED:20170709T210055Z
LAST-MODIFIED:20170709T210639Z
UID:5866-1503140400-1503237600@cudownyportal.pl
SUMMARY:Reiki - Seminarium I stopień
DESCRIPTION:Reiki  \nSeminarium I stopnia \n19 – 20 sierpnia 2017 \nprowadzi mistrz nauczyciel Ewa l. J. Kałuska \n 
URL:http://cudownyportal.pl/event/reiki-seminarium-i-stopien/
LOCATION:Nekla\, Dworcowa 2/2\, Dworcowa 2/2\, Nekla\, Wielkoposkie\, 62-330\, Polska
ATTACH;FMTTYPE=image/jpeg:http://cudownyportal.pl/wp-content/uploads/2016/08/images.jpg
END:VEVENT
BEGIN:VEVENT
DTSTART;TZID=UTC:20170715T170000
DTEND;TZID=UTC:20170723T130000
DTSTAMP:20260423T224038
CREATED:20170215T223536Z
LAST-MODIFIED:20170709T210301Z
UID:5379-1500138000-1500814800@cudownyportal.pl
SUMMARY:Letnie Wczasy z Regresingiem - 15 - 23.07.2017 Białka Tatrzańska
DESCRIPTION:15 – 23.07.2017 \nBiałka Tatrzańska \nLetnie Wczasy z Regresingiem \nJak odkryć własną moc i skutecznie z niej korzystać – dla wszystkich\, których w życiu ogarnia niemoc\, niemożność\, bezsilność\, bezradność. \nprow. Dariusz Loga
URL:http://cudownyportal.pl/event/letnie-wczasy-z-regresingiem-15-23-07-2017-bialka-tatrzanska/
LOCATION:Białka Tatrzańska\, Grapa 2A\, Białka Tatrzańska\, Małopolskie\, 34-405\, Polska
ATTACH;FMTTYPE=image/jpeg:http://cudownyportal.pl/wp-content/uploads/2015/05/W-drodze-na-szczyt-Fotolia_68847546_M.jpg
END:VEVENT
BEGIN:VEVENT
DTSTART;TZID=UTC:20170401T100000
DTEND;TZID=UTC:20170401T190000
DTSTAMP:20260423T224038
CREATED:20160719T195640Z
LAST-MODIFIED:20170215T224425Z
UID:3349-1491040800-1491073200@cudownyportal.pl
SUMMARY:Warsztat Ustawień Rodzinnych wg. B. Hellingera 01.04.2017 Warszawa
DESCRIPTION:Warszawa \n01 kwietnia 2017 \nzapraszamy na \nWarsztat Ustawień Rodzinnych wg. B. Hellingera \n” Z Waszą miłością mogę wszystko” \nprow: psycholog Elżbieta Sanigórska
URL:http://cudownyportal.pl/event/warsztat-ustawien-rodzinnych-wg-b-hellingera-03-09-2016-warszawa/
LOCATION:Poradnia TOP\, Raszyńska 8/10\, Warszawa\, Mazowieckie\, Polska
ATTACH;FMTTYPE=image/jpeg:http://cudownyportal.pl/wp-content/uploads/2015/05/hellinger.jpg
END:VEVENT
BEGIN:VEVENT
DTSTART;VALUE=DATE:20170318
DTEND;VALUE=DATE:20170320
DTSTAMP:20260423T224038
CREATED:20160709T114720Z
LAST-MODIFIED:20170210T222050Z
UID:3236-1489795200-1489967999@cudownyportal.pl
SUMMARY:Warsztat Ustawień Rodzinnych wg. B. Hellingera 18 - 19.03.2017 Poznań
DESCRIPTION:Poznań \n18 -19 marca 2017 \nzapraszamy na \nWarsztat Ustawień Rodzinnych wg. B. Hellingera \n„Z Waszą miłością mogę wszystko” \nprowadzi: psycholog Elżbieta Sanigórska
URL:http://cudownyportal.pl/event/warsztat-ustawien-rodzinnych-wg-b-hellingera/
LOCATION:Studio Jogi YAM\, J. Kochanowskiego 4/10\, Poznań\, wielkopolskie\, Polska
ATTACH;FMTTYPE=image/jpeg:http://cudownyportal.pl/wp-content/uploads/2015/05/hellinger.jpg
END:VEVENT
BEGIN:VEVENT
DTSTART;TZID=UTC:20170128T160000
DTEND;TZID=UTC:20170205T120000
DTSTAMP:20260423T224038
CREATED:20160813T143228Z
LAST-MODIFIED:20170129T103448Z
UID:4000-1485619200-1486296000@cudownyportal.pl
SUMMARY:Zimowe Wczasy Z Regresingiem    28.01 - 05.02.2017 Gąski
DESCRIPTION:  \nGąski k Koszalina \n28.01 – 05.02.2017 \nzapraszamy na \nWczasy z Regresingiem \n” Wzorce odrzucenia i ich wpływ na nasze życie. \nInteligencja emocjonalna – jak ją w sobie rozwinąć?” \nprow: Dariusz Logaa \nZapraszamy na Zimowe
URL:http://cudownyportal.pl/event/zimowe-wczasy-z-regresingiem-wzorce-odrzucenia-i-ich-wplyw-na-nasze-zycie-inteligencja-emocjonalna-jak-ja-w-sobie-rozwinac-gaski-28-01-05-02-2017/
LOCATION:Gąski\, Piaskowa 5\, Polska
ATTACH;FMTTYPE=image/jpeg:http://cudownyportal.pl/wp-content/uploads/2013/06/zima-morze3-ok.jpg
END:VEVENT
END:VCALENDAR