BEGIN:VCALENDAR
VERSION:2.0
PRODID:-//Cudowny Portal - ECPv6.15.20//NONSGML v1.0//EN
CALSCALE:GREGORIAN
METHOD:PUBLISH
X-ORIGINAL-URL:http://cudownyportal.pl
X-WR-CALDESC:Wydarzenia dla Cudowny Portal
REFRESH-INTERVAL;VALUE=DURATION:PT1H
X-Robots-Tag:noindex
X-PUBLISHED-TTL:PT1H
BEGIN:VTIMEZONE
TZID:UTC
BEGIN:STANDARD
TZOFFSETFROM:+0000
TZOFFSETTO:+0000
TZNAME:UTC
DTSTART:20160101T000000
END:STANDARD
END:VTIMEZONE
BEGIN:VEVENT
DTSTART;TZID=UTC:20170930T093000
DTEND;TZID=UTC:20170930T190000
DTSTAMP:20260424T050509
CREATED:20161112T173139Z
LAST-MODIFIED:20170830T184035Z
UID:4812-1506763800-1506798000@cudownyportal.pl
SUMMARY:Warsztat Ustawień Rodzinnych wg. B. Hellingera Warszawa 30.09.2017 prow. E. Sanigórska
DESCRIPTION:Warszawa \n30 września 2017 \nzapraszamy na \nWarsztat Ustawień Rodzinnych wg. B. Hellingera \n” Z Waszą miłością mogę wszystko” \nprow: psycholog Elżbieta Sanigórska \nczytaj więcej ! \n\nFormularz zgłoszeniowy!
URL:http://cudownyportal.pl/event/warsztat-ustawien-rodzinnych-wg-b-hellingera-warszawa-21-01-2017/
LOCATION:Poradnia TOP\, Raszyńska 8/10\, Warszawa\, Mazowieckie\, Polska
ATTACH;FMTTYPE=image/jpeg:http://cudownyportal.pl/wp-content/uploads/2015/05/hellinger.jpg
END:VEVENT
END:VCALENDAR